BEGIN:VCALENDAR
VERSION:2.0
PRODID:-//Stille Meditation St. Gallen Uzwil Kontemplation via integralis - ECPv6.15.20//NONSGML v1.0//EN
CALSCALE:GREGORIAN
METHOD:PUBLISH
X-WR-CALNAME:Stille Meditation St. Gallen Uzwil Kontemplation via integralis
X-ORIGINAL-URL:https://stille-meditation.ch
X-WR-CALDESC:Veranstaltungen für Stille Meditation St. Gallen Uzwil Kontemplation via integralis
REFRESH-INTERVAL;VALUE=DURATION:PT1H
X-Robots-Tag:noindex
X-PUBLISHED-TTL:PT1H
BEGIN:VTIMEZONE
TZID:Europe/Paris
BEGIN:DAYLIGHT
TZOFFSETFROM:+0100
TZOFFSETTO:+0200
TZNAME:CEST
DTSTART:20240331T010000
END:DAYLIGHT
BEGIN:STANDARD
TZOFFSETFROM:+0200
TZOFFSETTO:+0100
TZNAME:CET
DTSTART:20241027T010000
END:STANDARD
BEGIN:DAYLIGHT
TZOFFSETFROM:+0100
TZOFFSETTO:+0200
TZNAME:CEST
DTSTART:20250330T010000
END:DAYLIGHT
BEGIN:STANDARD
TZOFFSETFROM:+0200
TZOFFSETTO:+0100
TZNAME:CET
DTSTART:20251026T010000
END:STANDARD
BEGIN:DAYLIGHT
TZOFFSETFROM:+0100
TZOFFSETTO:+0200
TZNAME:CEST
DTSTART:20260329T010000
END:DAYLIGHT
BEGIN:STANDARD
TZOFFSETFROM:+0200
TZOFFSETTO:+0100
TZNAME:CET
DTSTART:20261025T010000
END:STANDARD
END:VTIMEZONE
BEGIN:VEVENT
DTSTART;TZID=Europe/Paris:20251213T080000
DTEND;TZID=Europe/Paris:20251213T170000
DTSTAMP:20260419T231752
CREATED:20250827T123516Z
LAST-MODIFIED:20251002T092919Z
UID:1040-1765612800-1765645200@stille-meditation.ch
SUMMARY:Inseln im Advent
DESCRIPTION:An vier Samstagmorgen treffen wir uns um uns auszutauschen\, um zur Ruhe zu kommen\, Gewohntes mit neuen Augen zu sehen und zu unserem wahren Wesen zu finden.\nZeit für uns selbst und für Gott\, an diesen Morgen und an Zeiten für uns zuhause.\nUnterlagen für die Zeiten zuhause werden zur Verfügung gestellt und es besteht am kommenden Samstag Gelegenheit\, Fragen und Erfahrungen zu besprechen.\nLeitung: Pfr. Hanspeter Meier und Silvia Spycher\nFlyer:
URL:https://stille-meditation.ch/aktuell/inseln-im-advent-7/
LOCATION:Unterrichtszimmer Pfarrhaus 3\, Kirchstrasse 3\, Niederuzwil\, St. Gallen\, 9244\, Switzerland
END:VEVENT
END:VCALENDAR