BEGIN:VCALENDAR
VERSION:2.0
PRODID:-//Stille Meditation St. Gallen Uzwil Kontemplation via integralis - ECPv6.15.20//NONSGML v1.0//EN
CALSCALE:GREGORIAN
METHOD:PUBLISH
X-WR-CALNAME:Stille Meditation St. Gallen Uzwil Kontemplation via integralis
X-ORIGINAL-URL:https://stille-meditation.ch
X-WR-CALDESC:Veranstaltungen für Stille Meditation St. Gallen Uzwil Kontemplation via integralis
REFRESH-INTERVAL;VALUE=DURATION:PT1H
X-Robots-Tag:noindex
X-PUBLISHED-TTL:PT1H
BEGIN:VTIMEZONE
TZID:Europe/Paris
BEGIN:DAYLIGHT
TZOFFSETFROM:+0100
TZOFFSETTO:+0200
TZNAME:CEST
DTSTART:20250330T010000
END:DAYLIGHT
BEGIN:STANDARD
TZOFFSETFROM:+0200
TZOFFSETTO:+0100
TZNAME:CET
DTSTART:20251026T010000
END:STANDARD
BEGIN:DAYLIGHT
TZOFFSETFROM:+0100
TZOFFSETTO:+0200
TZNAME:CEST
DTSTART:20260329T010000
END:DAYLIGHT
BEGIN:STANDARD
TZOFFSETFROM:+0200
TZOFFSETTO:+0100
TZNAME:CET
DTSTART:20261025T010000
END:STANDARD
BEGIN:DAYLIGHT
TZOFFSETFROM:+0100
TZOFFSETTO:+0200
TZNAME:CEST
DTSTART:20270328T010000
END:DAYLIGHT
BEGIN:STANDARD
TZOFFSETFROM:+0200
TZOFFSETTO:+0100
TZNAME:CET
DTSTART:20271031T010000
END:STANDARD
END:VTIMEZONE
BEGIN:VEVENT
DTSTART;TZID=Europe/Paris:20261105T140000
DTEND;TZID=Europe/Paris:20261105T151500
DTSTAMP:20260419T231754
CREATED:20250827T122047Z
LAST-MODIFIED:20251108T210647Z
UID:1024-1793887200-1793891700@stille-meditation.ch
SUMMARY:Sitzen in der Stille (Meditation)
DESCRIPTION:Loslassen: Worte\, Bilder\, Gedanken. Zur Ruhe kommen. So wird vieles von selbst klar\, frisch und frei. Das kann stärken und ermutigen\, entschiedener und liebevoller zu tun\, was uns am Herzen liegt.\nAnmeldung bitte direkt bei linda.schmollinger@sg.prosenectute.ch – 071 913 87 84
URL:https://stille-meditation.ch/aktuell/sitzen-in-der-stille-meditation/
LOCATION:Pro Senectute Kursraum Uzwil\, Bahnhofstrasse 83a\, Uzwil\, SG\, 9240\, Switzerland
END:VEVENT
END:VCALENDAR