BEGIN:VCALENDAR
VERSION:2.0
PRODID:-//Stille Meditation St. Gallen Uzwil Kontemplation via integralis - ECPv6.15.20//NONSGML v1.0//EN
CALSCALE:GREGORIAN
METHOD:PUBLISH
X-WR-CALNAME:Stille Meditation St. Gallen Uzwil Kontemplation via integralis
X-ORIGINAL-URL:https://stille-meditation.ch
X-WR-CALDESC:Veranstaltungen für Stille Meditation St. Gallen Uzwil Kontemplation via integralis
REFRESH-INTERVAL;VALUE=DURATION:PT1H
X-Robots-Tag:noindex
X-PUBLISHED-TTL:PT1H
BEGIN:VTIMEZONE
TZID:Europe/Paris
BEGIN:DAYLIGHT
TZOFFSETFROM:+0100
TZOFFSETTO:+0200
TZNAME:CEST
DTSTART:20250330T010000
END:DAYLIGHT
BEGIN:STANDARD
TZOFFSETFROM:+0200
TZOFFSETTO:+0100
TZNAME:CET
DTSTART:20251026T010000
END:STANDARD
BEGIN:DAYLIGHT
TZOFFSETFROM:+0100
TZOFFSETTO:+0200
TZNAME:CEST
DTSTART:20260329T010000
END:DAYLIGHT
BEGIN:STANDARD
TZOFFSETFROM:+0200
TZOFFSETTO:+0100
TZNAME:CET
DTSTART:20261025T010000
END:STANDARD
BEGIN:DAYLIGHT
TZOFFSETFROM:+0100
TZOFFSETTO:+0200
TZNAME:CEST
DTSTART:20270328T010000
END:DAYLIGHT
BEGIN:STANDARD
TZOFFSETFROM:+0200
TZOFFSETTO:+0100
TZNAME:CET
DTSTART:20271031T010000
END:STANDARD
END:VTIMEZONE
BEGIN:VEVENT
DTSTART;TZID=Europe/Paris:20260304T190000
DTEND;TZID=Europe/Paris:20260304T200000
DTSTAMP:20260419T170924
CREATED:20251002T093442Z
LAST-MODIFIED:20251108T211343Z
UID:1115-1772650800-1772654400@stille-meditation.ch
SUMMARY:Stille-Oase
DESCRIPTION:Wir schenken uns eine Stunde zum Aufatmen. Dabei öffnen wir uns für das Feine\, Leise\, das Gott in uns spricht.\nDaraus schöpfen wir Freude und Vertrauen für den Alltag.
URL:https://stille-meditation.ch/aktuell/stille-oase-11/
LOCATION:Unterrichtszimmer Pfarrhaus 3\, Kirchstrasse 3\, Niederuzwil\, St. Gallen\, 9244\, Switzerland
END:VEVENT
BEGIN:VEVENT
DTSTART;TZID=Europe/Paris:20260318T190000
DTEND;TZID=Europe/Paris:20260318T200000
DTSTAMP:20260419T170924
CREATED:20251002T093538Z
LAST-MODIFIED:20251108T211449Z
UID:1117-1773860400-1773864000@stille-meditation.ch
SUMMARY:Stille-Oase
DESCRIPTION:Wir schenken uns eine Stunde zum Aufatmen. Dabei öffnen wir uns für das Feine\, Leise\, das Gott in uns spricht.\nDaraus schöpfen wir Freude und Vertrauen für den Alltag.
URL:https://stille-meditation.ch/aktuell/stille-oase-12/
LOCATION:Unterrichtszimmer Pfarrhaus 3\, Kirchstrasse 3\, Niederuzwil\, St. Gallen\, 9244\, Switzerland
END:VEVENT
BEGIN:VEVENT
DTSTART;TZID=Europe/Paris:20260325T190000
DTEND;TZID=Europe/Paris:20260325T200000
DTSTAMP:20260419T170924
CREATED:20251002T093619Z
LAST-MODIFIED:20251108T211404Z
UID:1119-1774465200-1774468800@stille-meditation.ch
SUMMARY:Stille-Oase
DESCRIPTION:Wir schenken uns eine Stunde zum Aufatmen. Dabei öffnen wir uns für das Feine\, Leise\, das Gott in uns spricht.\nDaraus schöpfen wir Freude und Vertrauen für den Alltag.
URL:https://stille-meditation.ch/aktuell/stille-oase-13/
LOCATION:Unterrichtszimmer Pfarrhaus 3\, Kirchstrasse 3\, Niederuzwil\, St. Gallen\, 9244\, Switzerland
END:VEVENT
END:VCALENDAR